Package: DESeq2 Version: 1.44.0 Command: rm -rf DESeq2.buildbin-libdir && mkdir DESeq2.buildbin-libdir && F:\biocbuild\bbs-3.19-bioc\R\bin\R.exe CMD INSTALL --build --library=DESeq2.buildbin-libdir DESeq2_1.44.0.tar.gz StartedAt: 2024-06-27 08:06:55 -0400 (Thu, 27 Jun 2024) EndedAt: 2024-06-27 08:08:12 -0400 (Thu, 27 Jun 2024) EllapsedTime: 77.2 seconds RetCode: 0 Status: OK PackageFile: DESeq2_1.44.0.zip PackageFileSize: 2.276 MiB