Package: DESeq2 Version: 1.44.0 Command: /home/biocbuild/bbs-3.19-bioc/R/bin/R CMD check --install=check:DESeq2.install-out.txt --library=/home/biocbuild/bbs-3.19-bioc/R/site-library --timings DESeq2_1.44.0.tar.gz StartedAt: 2024-10-16 23:44:44 -0400 (Wed, 16 Oct 2024) EndedAt: 2024-10-16 23:52:28 -0400 (Wed, 16 Oct 2024) EllapsedTime: 463.8 seconds RetCode: 0 Status: OK CheckDir: DESeq2.Rcheck Warnings: 0