Package: DESeq2 Version: 1.44.0 Command: /home/biocbuild/bbs-3.19-bioc/R/bin/R CMD build --keep-empty-dirs --no-resave-data DESeq2 StartedAt: 2024-10-16 18:11:38 -0400 (Wed, 16 Oct 2024) EndedAt: 2024-10-16 18:13:28 -0400 (Wed, 16 Oct 2024) EllapsedTime: 110.2 seconds RetCode: 0 Status: OK PackageFile: DESeq2_1.44.0.tar.gz PackageFileSize: 2.002 MiB