Package: DESeq2 Version: 1.44.0 Command: /Library/Frameworks/R.framework/Resources/bin/R CMD check --install=check:DESeq2.install-out.txt --library=/Library/Frameworks/R.framework/Resources/library --no-vignettes --timings DESeq2_1.44.0.tar.gz StartedAt: 2024-10-17 04:12:34 -0400 (Thu, 17 Oct 2024) EndedAt: 2024-10-17 04:31:27 -0400 (Thu, 17 Oct 2024) EllapsedTime: 1132.7 seconds RetCode: 0 Status: OK CheckDir: DESeq2.Rcheck Warnings: 0