Package: DESeq2 Version: 1.44.0 Command: rm -rf DESeq2.buildbin-libdir && mkdir DESeq2.buildbin-libdir && /Users/biocbuild/BBS/utils/build-universal.sh DESeq2_1.44.0.tar.gz /Library/Frameworks/R.framework/Resources/bin/R DESeq2.buildbin-libdir StartedAt: 2024-10-17 16:01:19 -0400 (Thu, 17 Oct 2024) EndedAt: 2024-10-17 16:03:18 -0400 (Thu, 17 Oct 2024) EllapsedTime: 119.7 seconds RetCode: 0 Status: OK PackageFile: DESeq2_1.44.0.tgz PackageFileSize: 3.92 MiB