Package: DESeq2 Version: 1.44.0 Command: /Library/Frameworks/R.framework/Resources/bin/R CMD INSTALL DESeq2 StartedAt: 2024-06-09 15:39:38 -0400 (Sun, 09 Jun 2024) EndedAt: 2024-06-09 15:40:47 -0400 (Sun, 09 Jun 2024) EllapsedTime: 69.3 seconds RetCode: 0 Status: OK