Package: DESeq2 Version: 1.44.0 Command: rm -rf DESeq2.buildbin-libdir && mkdir DESeq2.buildbin-libdir && /Users/biocbuild/BBS/utils/build-universal.sh DESeq2_1.44.0.tar.gz /Library/Frameworks/R.framework/Resources/bin/R DESeq2.buildbin-libdir StartedAt: 2024-10-18 18:10:20 -0400 (Fri, 18 Oct 2024) EndedAt: 2024-10-18 18:11:23 -0400 (Fri, 18 Oct 2024) EllapsedTime: 63.3 seconds RetCode: 0 Status: OK PackageFile: DESeq2_1.44.0.tgz PackageFileSize: 3.908 MiB