Package: DEScan2 Version: 1.24.0 Command: /home/biocbuild/bbs-3.19-bioc/R/bin/R CMD build --keep-empty-dirs --no-resave-data DEScan2 StartedAt: 2024-10-16 18:11:38 -0400 (Wed, 16 Oct 2024) EndedAt: 2024-10-16 18:13:09 -0400 (Wed, 16 Oct 2024) EllapsedTime: 91.2 seconds RetCode: 0 Status: OK PackageFile: DEScan2_1.24.0.tar.gz PackageFileSize: 2.459 MiB