Package: DEScan2 Version: 1.24.0 Command: /Library/Frameworks/R.framework/Resources/bin/R CMD build --keep-empty-dirs --no-resave-data DEScan2 StartedAt: 2024-10-16 18:39:39 -0400 (Wed, 16 Oct 2024) EndedAt: 2024-10-16 18:43:36 -0400 (Wed, 16 Oct 2024) EllapsedTime: 236.8 seconds RetCode: 0 Status: OK PackageFile: DEScan2_1.24.0.tar.gz PackageFileSize: 2.478 MiB