Package: DEScan2 Version: 1.24.0 Command: rm -rf DEScan2.buildbin-libdir && mkdir DEScan2.buildbin-libdir && /Users/biocbuild/BBS/utils/build-universal.sh DEScan2_1.24.0.tar.gz /Library/Frameworks/R.framework/Resources/bin/R DEScan2.buildbin-libdir StartedAt: 2024-10-17 16:01:18 -0400 (Thu, 17 Oct 2024) EndedAt: 2024-10-17 16:03:36 -0400 (Thu, 17 Oct 2024) EllapsedTime: 138.7 seconds RetCode: 0 Status: OK PackageFile: DEScan2_1.24.0.tgz PackageFileSize: 2.601 MiB