Package: DEScan2 Version: 1.24.0 Command: /home/biocbuild/R/R-beta-2024-04-15_r86425/bin/R CMD build --keep-empty-dirs --no-resave-data DEScan2 StartedAt: 2024-05-08 23:52:16 -0000 (Wed, 08 May 2024) EndedAt: 2024-05-08 23:54:34 -0000 (Wed, 08 May 2024) EllapsedTime: 137.2 seconds RetCode: 0 Status: OK PackageFile: DEScan2_1.24.0.tar.gz PackageFileSize: 2.444 MiB