Package: DEScan2 Version: 1.24.0 Command: /Library/Frameworks/R.framework/Resources/bin/R CMD check --install=check:DEScan2.install-out.txt --library=/Library/Frameworks/R.framework/Resources/library --no-vignettes --timings DEScan2_1.24.0.tar.gz StartedAt: 2024-10-17 19:29:52 -0400 (Thu, 17 Oct 2024) EndedAt: 2024-10-17 19:38:43 -0400 (Thu, 17 Oct 2024) EllapsedTime: 531.6 seconds RetCode: 0 Status: WARNINGS CheckDir: DEScan2.Rcheck Warnings: 2