Package: DEP Version: 1.26.0 Command: rm -rf DEP.buildbin-libdir && mkdir DEP.buildbin-libdir && E:\biocbuild\bbs-3.19-bioc\R\bin\R.exe CMD INSTALL --build --library=DEP.buildbin-libdir DEP_1.26.0.tar.gz StartedAt: 2024-10-17 07:40:38 -0400 (Thu, 17 Oct 2024) EndedAt: 2024-10-17 07:41:42 -0400 (Thu, 17 Oct 2024) EllapsedTime: 63.9 seconds RetCode: 0 Status: OK PackageFile: DEP_1.26.0.zip PackageFileSize: 3.086 MiB