Package: DEP Version: 1.26.0 Command: /Library/Frameworks/R.framework/Resources/bin/R CMD check --install=check:DEP.install-out.txt --library=/Library/Frameworks/R.framework/Resources/library --no-vignettes --timings DEP_1.26.0.tar.gz StartedAt: 2024-10-17 04:07:55 -0400 (Thu, 17 Oct 2024) EndedAt: 2024-10-17 04:27:02 -0400 (Thu, 17 Oct 2024) EllapsedTime: 1147.5 seconds RetCode: 0 Status: WARNINGS CheckDir: DEP.Rcheck Warnings: 1