Package: DEP Version: 1.26.0 Command: rm -rf DEP.buildbin-libdir && mkdir DEP.buildbin-libdir && /Users/biocbuild/BBS/utils/build-universal.sh DEP_1.26.0.tar.gz /Library/Frameworks/R.framework/Resources/bin/R DEP.buildbin-libdir StartedAt: 2024-10-17 16:00:59 -0400 (Thu, 17 Oct 2024) EndedAt: 2024-10-17 16:02:37 -0400 (Thu, 17 Oct 2024) EllapsedTime: 98.3 seconds RetCode: 0 Status: OK PackageFile: DEP_1.26.0.tgz PackageFileSize: 4.293 MiB