Package: DEP Version: 1.26.0 Command: rm -rf DEP.buildbin-libdir && mkdir DEP.buildbin-libdir && /Users/biocbuild/BBS/utils/build-universal.sh DEP_1.26.0.tar.gz /Library/Frameworks/R.framework/Resources/bin/R DEP.buildbin-libdir StartedAt: 2024-06-10 00:14:54 -0400 (Mon, 10 Jun 2024) EndedAt: 2024-06-10 00:15:50 -0400 (Mon, 10 Jun 2024) EllapsedTime: 55.4 seconds RetCode: 0 Status: OK PackageFile: DEP_1.26.0.tgz PackageFileSize: 4.299 MiB