Package: DEP Version: 1.26.0 Command: /home/biocbuild/R/R-beta-2024-04-15_r86425/bin/R CMD build --keep-empty-dirs --no-resave-data DEP StartedAt: 2024-05-08 23:50:10 -0000 (Wed, 08 May 2024) EndedAt: 2024-05-08 23:52:19 -0000 (Wed, 08 May 2024) EllapsedTime: 129.2 seconds RetCode: 0 Status: OK PackageFile: DEP_1.26.0.tar.gz PackageFileSize: 2.436 MiB