Package: DEP Version: 1.26.0 Command: /Library/Frameworks/R.framework/Resources/bin/R CMD build --keep-empty-dirs --no-resave-data DEP StartedAt: 2024-10-16 23:06:20 -0400 (Wed, 16 Oct 2024) EndedAt: 2024-10-16 23:07:57 -0400 (Wed, 16 Oct 2024) EllapsedTime: 96.7 seconds RetCode: 0 Status: OK PackageFile: DEP_1.26.0.tar.gz PackageFileSize: 3.386 MiB