Package: DEP Version: 1.26.0 Maintainer: Arne Smits MaintainerEmail: smits.arne at gmail.com git_url: https://git.bioconductor.org/packages/DEP git_branch: RELEASE_3_19 git_last_commit: cca9bde git_last_commit_date: 2024-04-30 10:59:44 -0400 (Tue, 30 Apr 2024)