Package: DELocal Version: 1.4.0 Command: chmod a+r DELocal -R && F:\biocbuild\bbs-3.19-bioc\R\bin\R.exe CMD build --keep-empty-dirs --no-resave-data DELocal StartedAt: 2024-06-26 18:19:32 -0400 (Wed, 26 Jun 2024) EndedAt: 2024-06-26 18:20:47 -0400 (Wed, 26 Jun 2024) EllapsedTime: 74.7 seconds RetCode: 0 Status: OK PackageFile: DELocal_1.4.0.tar.gz PackageFileSize: 2.299 MiB