Package: DELocal Version: 1.4.0 Command: /Library/Frameworks/R.framework/Resources/bin/R CMD build --keep-empty-dirs --no-resave-data DELocal StartedAt: 2024-10-16 18:34:36 -0400 (Wed, 16 Oct 2024) EndedAt: 2024-10-16 18:38:16 -0400 (Wed, 16 Oct 2024) EllapsedTime: 220.6 seconds RetCode: 0 Status: OK PackageFile: DELocal_1.4.0.tar.gz PackageFileSize: 2.334 MiB