Package: DELocal Version: 1.4.0 Command: /Library/Frameworks/R.framework/Resources/bin/R CMD build --keep-empty-dirs --no-resave-data DELocal StartedAt: 2024-06-09 20:29:14 -0400 (Sun, 09 Jun 2024) EndedAt: 2024-06-09 20:31:05 -0400 (Sun, 09 Jun 2024) EllapsedTime: 111.0 seconds RetCode: 0 Status: OK PackageFile: DELocal_1.4.0.tar.gz PackageFileSize: 2.334 MiB