Package: DELocal Version: 1.4.0 Command: /Library/Frameworks/R.framework/Resources/bin/R CMD check --install=check:DELocal.install-out.txt --library=/Library/Frameworks/R.framework/Resources/library --no-vignettes --timings DELocal_1.4.0.tar.gz StartedAt: 2024-10-17 19:14:47 -0400 (Thu, 17 Oct 2024) EndedAt: 2024-10-17 19:18:17 -0400 (Thu, 17 Oct 2024) EllapsedTime: 210.0 seconds RetCode: 0 Status: OK CheckDir: DELocal.Rcheck Warnings: 0