Package: DEGseq Version: 1.58.0 Command: E:\biocbuild\bbs-3.19-bioc\R\bin\R.exe CMD check --no-multiarch --install=check:DEGseq.install-out.txt --library=E:\biocbuild\bbs-3.19-bioc\R\library --no-vignettes --timings DEGseq_1.58.0.tar.gz StartedAt: 2024-10-17 00:41:51 -0400 (Thu, 17 Oct 2024) EndedAt: 2024-10-17 00:42:58 -0400 (Thu, 17 Oct 2024) EllapsedTime: 66.8 seconds RetCode: 0 Status: OK CheckDir: DEGseq.Rcheck Warnings: 0