Package: DEGseq Version: 1.58.0 Command: chmod a+r DEGseq -R && E:\biocbuild\bbs-3.19-bioc\R\bin\R.exe CMD build --keep-empty-dirs --no-resave-data DEGseq StartedAt: 2024-10-16 18:36:14 -0400 (Wed, 16 Oct 2024) EndedAt: 2024-10-16 18:37:00 -0400 (Wed, 16 Oct 2024) EllapsedTime: 45.5 seconds RetCode: 0 Status: OK PackageFile: DEGseq_1.58.0.tar.gz PackageFileSize: 1.84 MiB