Package: DEGseq Version: 1.58.0 Command: rm -rf DEGseq.buildbin-libdir && mkdir DEGseq.buildbin-libdir && E:\biocbuild\bbs-3.19-bioc\R\bin\R.exe CMD INSTALL --build --library=DEGseq.buildbin-libdir DEGseq_1.58.0.tar.gz StartedAt: 2024-10-17 07:39:53 -0400 (Thu, 17 Oct 2024) EndedAt: 2024-10-17 07:40:27 -0400 (Thu, 17 Oct 2024) EllapsedTime: 34.3 seconds RetCode: 0 Status: OK PackageFile: DEGseq_1.58.0.zip PackageFileSize: 2.387 MiB