Package: DEGseq Version: 1.58.0 Command: /home/biocbuild/bbs-3.19-bioc/R/bin/R CMD check --install=check:DEGseq.install-out.txt --library=/home/biocbuild/bbs-3.19-bioc/R/site-library --timings DEGseq_1.58.0.tar.gz StartedAt: 2024-10-16 23:37:40 -0400 (Wed, 16 Oct 2024) EndedAt: 2024-10-16 23:38:17 -0400 (Wed, 16 Oct 2024) EllapsedTime: 37.1 seconds RetCode: 0 Status: WARNINGS CheckDir: DEGseq.Rcheck Warnings: 1