Package: DEGseq Version: 1.58.0 Command: /Library/Frameworks/R.framework/Resources/bin/R CMD INSTALL DEGseq StartedAt: 2024-10-16 15:24:35 -0400 (Wed, 16 Oct 2024) EndedAt: 2024-10-16 15:25:06 -0400 (Wed, 16 Oct 2024) EllapsedTime: 31.4 seconds RetCode: 0 Status: OK