Package: DEGseq Version: 1.58.0 Command: /home/biocbuild/R/R-beta-2024-04-15_r86425/bin/R CMD INSTALL DEGseq StartedAt: 2024-05-08 20:16:04 -0000 (Wed, 08 May 2024) EndedAt: 2024-05-08 20:16:25 -0000 (Wed, 08 May 2024) EllapsedTime: 21.4 seconds RetCode: 0 Status: OK