Package: DEGseq Version: 1.58.0 Command: /home/biocbuild/R/R-beta-2024-04-15_r86425/bin/R CMD check --install=check:DEGseq.install-out.txt --library=/home/biocbuild/R/R-beta-2024-04-15_r86425/site-library --no-vignettes --timings DEGseq_1.58.0.tar.gz StartedAt: 2024-05-09 06:37:50 -0000 (Thu, 09 May 2024) EndedAt: 2024-05-09 06:38:27 -0000 (Thu, 09 May 2024) EllapsedTime: 37.1 seconds RetCode: 0 Status: WARNINGS CheckDir: DEGseq.Rcheck Warnings: 1