Package: DEGseq Version: 1.58.0 Command: /home/biocbuild/R/R-beta-2024-04-15_r86425/bin/R CMD build --keep-empty-dirs --no-resave-data DEGseq StartedAt: 2024-05-08 23:47:20 -0000 (Wed, 08 May 2024) EndedAt: 2024-05-08 23:47:46 -0000 (Wed, 08 May 2024) EllapsedTime: 26.0 seconds RetCode: 0 Status: OK PackageFile: DEGseq_1.58.0.tar.gz PackageFileSize: 1.947 MiB