Package: DEGseq Version: 1.58.0 Command: /Library/Frameworks/R.framework/Resources/bin/R CMD check --install=check:DEGseq.install-out.txt --library=/Library/Frameworks/R.framework/Resources/library --no-vignettes --timings DEGseq_1.58.0.tar.gz StartedAt: 2024-10-17 19:10:54 -0400 (Thu, 17 Oct 2024) EndedAt: 2024-10-17 19:11:40 -0400 (Thu, 17 Oct 2024) EllapsedTime: 46.4 seconds RetCode: 0 Status: WARNINGS CheckDir: DEGseq.Rcheck Warnings: 1