Package: DEGseq Version: 1.58.0 Command: /Library/Frameworks/R.framework/Resources/bin/R CMD build --keep-empty-dirs --no-resave-data DEGseq StartedAt: 2024-10-16 22:59:03 -0400 (Wed, 16 Oct 2024) EndedAt: 2024-10-16 22:59:32 -0400 (Wed, 16 Oct 2024) EllapsedTime: 29.9 seconds RetCode: 0 Status: OK PackageFile: DEGseq_1.58.0.tar.gz PackageFileSize: 1.96 MiB