Package: DEGseq Version: 1.58.0 Command: rm -rf DEGseq.buildbin-libdir && mkdir DEGseq.buildbin-libdir && /Users/biocbuild/BBS/utils/build-universal.sh DEGseq_1.58.0.tar.gz /Library/Frameworks/R.framework/Resources/bin/R DEGseq.buildbin-libdir StartedAt: 2024-10-18 18:07:51 -0400 (Fri, 18 Oct 2024) EndedAt: 2024-10-18 18:08:11 -0400 (Fri, 18 Oct 2024) EllapsedTime: 19.4 seconds RetCode: 0 Status: OK PackageFile: DEGseq_1.58.0.tgz PackageFileSize: 2.246 MiB