Package: DEGreport Version: 1.40.1 Command: E:\biocbuild\bbs-3.19-bioc\R\bin\R.exe CMD check --no-multiarch --install=check:DEGreport.install-out.txt --library=E:\biocbuild\bbs-3.19-bioc\R\library --no-vignettes --timings DEGreport_1.40.1.tar.gz StartedAt: 2024-10-17 00:41:32 -0400 (Thu, 17 Oct 2024) EndedAt: 2024-10-17 00:47:30 -0400 (Thu, 17 Oct 2024) EllapsedTime: 358.1 seconds RetCode: 0 Status: OK CheckDir: DEGreport.Rcheck Warnings: 0