Package: DEGreport Version: 1.40.1 Command: chmod a+r DEGreport -R && E:\biocbuild\bbs-3.19-bioc\R\bin\R.exe CMD build --keep-empty-dirs --no-resave-data DEGreport StartedAt: 2024-10-16 18:36:12 -0400 (Wed, 16 Oct 2024) EndedAt: 2024-10-16 18:38:06 -0400 (Wed, 16 Oct 2024) EllapsedTime: 114.1 seconds RetCode: 0 Status: OK PackageFile: DEGreport_1.40.1.tar.gz PackageFileSize: 18.7 MiB