Package: DEGreport Version: 1.40.0 Command: F:\biocbuild\bbs-3.19-bioc\R\bin\R.exe CMD INSTALL DEGreport StartedAt: 2024-06-26 16:08:17 -0400 (Wed, 26 Jun 2024) EndedAt: 2024-06-26 16:09:04 -0400 (Wed, 26 Jun 2024) EllapsedTime: 46.9 seconds RetCode: 0 Status: OK