Package: DEGreport Version: 1.40.1 Command: /Library/Frameworks/R.framework/Resources/bin/R CMD INSTALL DEGreport StartedAt: 2024-10-16 15:52:03 -0400 (Wed, 16 Oct 2024) EndedAt: 2024-10-16 15:53:15 -0400 (Wed, 16 Oct 2024) EllapsedTime: 71.7 seconds RetCode: 0 Status: OK