Package: DEGreport Version: 1.40.1 Command: rm -rf DEGreport.buildbin-libdir && mkdir DEGreport.buildbin-libdir && /Users/biocbuild/BBS/utils/build-universal.sh DEGreport_1.40.1.tar.gz /Library/Frameworks/R.framework/Resources/bin/R DEGreport.buildbin-libdir StartedAt: 2024-10-17 15:59:41 -0400 (Thu, 17 Oct 2024) EndedAt: 2024-10-17 16:01:01 -0400 (Thu, 17 Oct 2024) EllapsedTime: 80.5 seconds RetCode: 0 Status: OK PackageFile: DEGreport_1.40.1.tgz PackageFileSize: 3.308 MiB