Package: DEGreport Version: 1.40.0 Command: rm -rf DEGreport.buildbin-libdir && mkdir DEGreport.buildbin-libdir && /Users/biocbuild/BBS/utils/build-universal.sh DEGreport_1.40.0.tar.gz /Library/Frameworks/R.framework/Resources/bin/R DEGreport.buildbin-libdir StartedAt: 2024-06-10 00:14:30 -0400 (Mon, 10 Jun 2024) EndedAt: 2024-06-10 00:15:15 -0400 (Mon, 10 Jun 2024) EllapsedTime: 45.0 seconds RetCode: 0 Status: OK PackageFile: DEGreport_1.40.0.tgz PackageFileSize: 3.318 MiB