Package: DEFormats Version: 1.32.0 Command: rm -rf DEFormats.buildbin-libdir && mkdir DEFormats.buildbin-libdir && F:\biocbuild\bbs-3.19-bioc\R\bin\R.exe CMD INSTALL --build --library=DEFormats.buildbin-libdir DEFormats_1.32.0.tar.gz StartedAt: 2024-06-27 08:05:45 -0400 (Thu, 27 Jun 2024) EndedAt: 2024-06-27 08:06:23 -0400 (Thu, 27 Jun 2024) EllapsedTime: 37.5 seconds RetCode: 0 Status: OK PackageFile: DEFormats_1.32.0.zip PackageFileSize: 494.8 KiB