Package: DEFormats Version: 1.32.0 Command: /Library/Frameworks/R.framework/Resources/bin/R CMD build --keep-empty-dirs --no-resave-data DEFormats StartedAt: 2024-10-16 18:31:28 -0400 (Wed, 16 Oct 2024) EndedAt: 2024-10-16 18:33:26 -0400 (Wed, 16 Oct 2024) EllapsedTime: 118.3 seconds RetCode: 0 Status: OK PackageFile: DEFormats_1.32.0.tar.gz PackageFileSize: 226.4 KiB