############################################################################## ############################################################################## ### ### Running command: ### ### /home/biocbuild/bbs-3.19-bioc/R/bin/R CMD check --install=check:DECIPHER.install-out.txt --library=/home/biocbuild/bbs-3.19-bioc/R/site-library --timings DECIPHER_3.0.0.tar.gz ### ############################################################################## ############################################################################## * using log directory ‘/home/biocbuild/bbs-3.19-bioc/meat/DECIPHER.Rcheck’ * using R version 4.4.1 (2024-06-14) * using platform: x86_64-pc-linux-gnu * R was compiled by gcc (Ubuntu 11.4.0-1ubuntu1~22.04) 11.4.0 GNU Fortran (Ubuntu 11.4.0-1ubuntu1~22.04) 11.4.0 * running under: Ubuntu 22.04.5 LTS * using session charset: UTF-8 * checking for file ‘DECIPHER/DESCRIPTION’ ... OK * checking extension type ... Package * this is package ‘DECIPHER’ version ‘3.0.0’ * checking package namespace information ... OK * checking package dependencies ... OK * checking if this is a source package ... OK * checking if there is a namespace ... OK * checking for hidden files and directories ... OK * checking for portable file names ... OK * checking for sufficient/correct file permissions ... OK * checking whether package ‘DECIPHER’ can be installed ... OK * used C compiler: ‘gcc (Ubuntu 11.4.0-1ubuntu1~22.04) 11.4.0’ * checking installed package size ... NOTE installed size is 11.9Mb sub-directories of 1Mb or more: R 1.4Mb data 7.6Mb extdata 1.5Mb * checking package directory ... OK * checking ‘build’ directory ... OK * checking DESCRIPTION meta-information ... OK * checking top-level files ... OK * checking for left-over files ... OK * checking index information ... OK * checking package subdirectories ... OK * checking code files for non-ASCII characters ... OK * checking R files for syntax errors ... OK * checking whether the package can be loaded ... OK * checking whether the package can be loaded with stated dependencies ... OK * checking whether the package can be unloaded cleanly ... OK * checking whether the namespace can be loaded with stated dependencies ... OK * checking whether the namespace can be unloaded cleanly ... OK * checking loading without being on the library search path ... OK * checking dependencies in R code ... OK * checking S3 generic/method consistency ... OK * checking replacement functions ... OK * checking foreign function calls ... OK * checking R code for possible problems ... NOTE AlignSeqs: no visible binding for global variable ‘deltaGrulesRNA’ DesignSignatures: no visible binding for global variable ‘deltaHrules’ FindGenes: no visible binding for global variable ‘deltaHrulesRNA’ FindNonCoding: no visible binding for global variable ‘deltaHrulesRNA’ LearnNonCoding: no visible binding for global variable ‘deltaHrulesRNA’ PredictDBN: no visible binding for global variable ‘deltaGrulesRNA’ TreeLine: multiple local function definitions for ‘.minimize’ with different formal arguments Undefined global functions or variables: deltaGrulesRNA deltaHrules deltaHrulesRNA * checking Rd files ... OK * checking Rd metadata ... OK * checking Rd cross-references ... OK * checking for missing documentation entries ... OK * checking for code/documentation mismatches ... OK * checking Rd \usage sections ... OK * checking Rd contents ... OK * checking for unstated dependencies in examples ... OK * checking contents of ‘data’ directory ... OK * checking data for non-ASCII characters ... OK * checking data for ASCII and uncompressed saves ... OK * checking line endings in C/C++/Fortran sources/headers ... OK * checking line endings in Makefiles ... OK * checking compilation flags in Makevars ... OK * checking for GNU extensions in Makefiles ... OK * checking for portable use of $(BLAS_LIBS) and $(LAPACK_LIBS) ... OK * checking use of PKG_*FLAGS in Makefiles ... OK * checking compiled code ... NOTE Note: information on .o files is not available * checking files in ‘vignettes’ ... OK * checking examples ... OK Examples with CPU (user + system) or elapsed time > 5s user system elapsed AlignSeqs 167.913 0.772 168.685 LearnNonCoding 120.601 6.419 131.537 MapCharacters 84.981 0.216 85.207 FindNonCoding 58.096 0.396 58.492 ExtractGenes 42.905 0.220 43.127 FindGenes 41.874 0.164 42.039 WriteGenes 41.851 0.161 42.011 Genes-class 41.155 0.252 41.407 BrowseSeqs 23.593 0.096 23.690 CorrectFrameshifts 16.463 0.096 16.559 DetectRepeats 14.877 0.056 14.934 AlignTranslation 11.688 0.096 11.784 StaggerAlignment 11.067 0.156 11.223 Taxa-class 9.859 0.032 9.891 LearnTaxa 8.876 0.947 9.853 IdTaxa 9.410 0.092 9.501 TreeLine 8.335 0.056 8.392 Clusterize 5.768 0.036 5.804 DesignArray 4.984 0.068 5.053 * checking for unstated dependencies in vignettes ... OK * checking package vignettes ... OK * checking re-building of vignette outputs ... OK * checking PDF version of manual ... OK * DONE Status: 3 NOTEs See ‘/home/biocbuild/bbs-3.19-bioc/meat/DECIPHER.Rcheck/00check.log’ for details.