Package: DECIPHER Version: 3.0.0 Command: /Library/Frameworks/R.framework/Resources/bin/R CMD INSTALL DECIPHER StartedAt: 2024-10-16 15:21:05 -0400 (Wed, 16 Oct 2024) EndedAt: 2024-10-16 15:23:18 -0400 (Wed, 16 Oct 2024) EllapsedTime: 133.0 seconds RetCode: 0 Status: OK