Package: DECIPHER Version: 3.0.0 Command: /Library/Frameworks/R.framework/Resources/bin/R CMD check --install=check:DECIPHER.install-out.txt --library=/Library/Frameworks/R.framework/Resources/library --no-vignettes --timings DECIPHER_3.0.0.tar.gz StartedAt: 2024-10-17 18:52:53 -0400 (Thu, 17 Oct 2024) EndedAt: 2024-10-17 19:14:17 -0400 (Thu, 17 Oct 2024) EllapsedTime: 1283.5 seconds RetCode: 0 Status: OK CheckDir: DECIPHER.Rcheck Warnings: 0