Package: DECIPHER Version: 3.0.0 Command: rm -rf DECIPHER.buildbin-libdir && mkdir DECIPHER.buildbin-libdir && /Users/biocbuild/BBS/utils/build-universal.sh DECIPHER_3.0.0.tar.gz /Library/Frameworks/R.framework/Resources/bin/R DECIPHER.buildbin-libdir StartedAt: 2024-10-18 18:06:25 -0400 (Fri, 18 Oct 2024) EndedAt: 2024-10-18 18:07:45 -0400 (Fri, 18 Oct 2024) EllapsedTime: 80.8 seconds RetCode: 0 Status: OK PackageFile: DECIPHER_3.0.0.tgz PackageFileSize: 17.05 MiB