Package: DCATS Version: 1.2.0 Command: rm -rf DCATS.buildbin-libdir && mkdir DCATS.buildbin-libdir && E:\biocbuild\bbs-3.19-bioc\R\bin\R.exe CMD INSTALL --build --library=DCATS.buildbin-libdir DCATS_1.2.0.tar.gz StartedAt: 2024-10-17 07:38:45 -0400 (Thu, 17 Oct 2024) EndedAt: 2024-10-17 07:39:00 -0400 (Thu, 17 Oct 2024) EllapsedTime: 15.1 seconds RetCode: 0 Status: OK PackageFile: DCATS_1.2.0.zip PackageFileSize: 2.873 MiB