Package: DCATS Version: 1.2.0 Command: rm -rf DCATS.buildbin-libdir && mkdir DCATS.buildbin-libdir && /Users/biocbuild/BBS/utils/build-universal.sh DCATS_1.2.0.tar.gz /Library/Frameworks/R.framework/Resources/bin/R DCATS.buildbin-libdir StartedAt: 2024-10-18 18:05:42 -0400 (Fri, 18 Oct 2024) EndedAt: 2024-10-18 18:05:53 -0400 (Fri, 18 Oct 2024) EllapsedTime: 10.2 seconds RetCode: 0 Status: OK PackageFile: DCATS_1.2.0.tgz PackageFileSize: 2.866 MiB