Package: DART Version: 1.52.0 Command: rm -rf DART.buildbin-libdir && mkdir DART.buildbin-libdir && /Users/biocbuild/BBS/utils/build-universal.sh DART_1.52.0.tar.gz /Library/Frameworks/R.framework/Resources/bin/R DART.buildbin-libdir StartedAt: 2024-10-17 15:58:48 -0400 (Thu, 17 Oct 2024) EndedAt: 2024-10-17 15:58:55 -0400 (Thu, 17 Oct 2024) EllapsedTime: 7.5 seconds RetCode: 0 Status: OK PackageFile: DART_1.52.0.tgz PackageFileSize: 2.027 MiB