Package: DART Version: 1.52.0 Command: /Library/Frameworks/R.framework/Resources/bin/R CMD INSTALL DART StartedAt: 2024-06-09 15:04:52 -0400 (Sun, 09 Jun 2024) EndedAt: 2024-06-09 15:05:19 -0400 (Sun, 09 Jun 2024) EllapsedTime: 27.1 seconds RetCode: 0 Status: OK